BEGIN:VCALENDAR
VERSION:2.0
PRODID:-//Cambridge Scouts - ECPv6.15.20//NONSGML v1.0//EN
CALSCALE:GREGORIAN
METHOD:PUBLISH
X-WR-CALNAME:Cambridge Scouts
X-ORIGINAL-URL:https://www.cambridgescouts.org.uk
X-WR-CALDESC:Events for Cambridge Scouts
REFRESH-INTERVAL;VALUE=DURATION:PT1H
X-Robots-Tag:noindex
X-PUBLISHED-TTL:PT1H
BEGIN:VTIMEZONE
TZID:Europe/London
BEGIN:DAYLIGHT
TZOFFSETFROM:+0000
TZOFFSETTO:+0100
TZNAME:BST
DTSTART:20220327T010000
END:DAYLIGHT
BEGIN:STANDARD
TZOFFSETFROM:+0100
TZOFFSETTO:+0000
TZNAME:GMT
DTSTART:20221030T010000
END:STANDARD
BEGIN:DAYLIGHT
TZOFFSETFROM:+0000
TZOFFSETTO:+0100
TZNAME:BST
DTSTART:20230326T010000
END:DAYLIGHT
BEGIN:STANDARD
TZOFFSETFROM:+0100
TZOFFSETTO:+0000
TZNAME:GMT
DTSTART:20231029T010000
END:STANDARD
BEGIN:DAYLIGHT
TZOFFSETFROM:+0000
TZOFFSETTO:+0100
TZNAME:BST
DTSTART:20240331T010000
END:DAYLIGHT
BEGIN:STANDARD
TZOFFSETFROM:+0100
TZOFFSETTO:+0000
TZNAME:GMT
DTSTART:20241027T010000
END:STANDARD
END:VTIMEZONE
BEGIN:VEVENT
DTSTART;TZID=Europe/London:20230912T203000
DTEND;TZID=Europe/London:20230912T213000
DTSTAMP:20260421T214723
CREATED:20230909T181155Z
LAST-MODIFIED:20230909T181155Z
UID:1342-1694550600-1694554200@www.cambridgescouts.org.uk
SUMMARY:[Cubs] Leaders Meeting
DESCRIPTION:All Cub leaders (not just CSLs) are welcome!
URL:https://www.cambridgescouts.org.uk/event/cubs-leaders-meeting/
LOCATION:11th/9th Cambridge HQ\, Newnham Scout and Guide Centre\,\, Chedworth St\,\, Cambridge\, CB3 9JF\, United Kingdom
CATEGORIES:Cub Scouts
ATTACH;FMTTYPE=image/png:https://www.cambridgescouts.org.uk/wp-content/uploads/2022/11/cubs-logo-green-png-300.png
END:VEVENT
BEGIN:VEVENT
DTSTART;TZID=Europe/London:20230913T190000
DTEND;TZID=Europe/London:20230913T210000
DTSTAMP:20260421T214723
CREATED:20230906T213202Z
LAST-MODIFIED:20230909T100212Z
UID:1285-1694631600-1694638800@www.cambridgescouts.org.uk
SUMMARY:Young Leaders’ Online Training Course Module A – Prepare for Take-off!
DESCRIPTION:The training course is for Explorer Scout Young Leaders\, prospective Young Leaders and DofE volunteers to cover Module A: Prepare for Take-off! If you are between 13.5 and inc 17 and already are or are considering becoming a Young Leader you need to take this course. \nModule A aims to give you the essential information you will need to perform your ESYL role safely. \nThe course will be presented via Zoom in accordance to Scout HQ safety guidance. \nhttps://www.scouts.org.uk/volunteers/scouts-at-home/taking-scouts-online/staying-safe-online/ \nThere will always be two adults on the training team in the online conference room to ensure safeguarding with password protection to enter the conference\, to ensure we are keeping young people safe. The course will be 2 hours long with a short interval. We will be running the course on the 13 Sep 2023 between 7pm and 9pm. The course online is interactive\, and theory based for which we highly recommend a minimum of a PC/laptop or tablet is used with a working camera\, speaker or headphones\, mic or headphones with a built-in mic. \nOnce this course is completed\, a YLs Logbook and information cards in a pack will be sent to all of those who attended\, along with the YL badge. For DofE non-member volunteers you will get a certificate of attendance and the information cards only. \nClick here to book/find out more \nhttps://www.cambridgeshirescouts.org.uk/adult-support/training/young-leaders-online-training-course-module-a-prepare-for-take-off-2 \nor \nhttps://www.eventbrite.co.uk/e/young-leaders-scheme-online-training-module-a-tickets-699552138277 \nThe closing date for booking is 1900 on 11 Sep 2023. \nAny questions please do not hesitate in contacting: \ned.sowells@cambridgeshirescouts.org.uk
URL:https://www.cambridgescouts.org.uk/event/young-leaders-online-training-course-module-a-prepare-for-take-off/
LOCATION:Cambridgeshire
CATEGORIES:Explorer Scouts,Training
ATTACH;FMTTYPE=image/png:https://www.cambridgescouts.org.uk/wp-content/uploads/2017/08/event-county-training.png
END:VEVENT
BEGIN:VEVENT
DTSTART;TZID=Europe/London:20230917T140000
DTEND;TZID=Europe/London:20230917T170000
DTSTAMP:20260421T214723
CREATED:20230909T105151Z
LAST-MODIFIED:20230909T105151Z
UID:1322-1694959200-1694970000@www.cambridgescouts.org.uk
SUMMARY:District AGM
DESCRIPTION:The Annual General Meeting of Cambridge District Scout Council will be held at Cambridge District Scout HQ\, Green End Road\, Cambridge at 14.00 on Sunday 17th September 2023 for the purposes set out. \nTo help with catering numbers\, please can you confirm your attendance and if you have an special dietary requirements by midnight on Wednesday 13th September. \nPlease complete the following form if you are able to attend the AGM.\n\nhttps://docs.google.com/forms/d/e/1FAIpQLSeSpHpXuy361_KWmmxFV3sPMRW5irLonfH8ujJ0QrbgLbMNrw/viewform?usp=sf_link
URL:https://www.cambridgescouts.org.uk/event/district-agm/
LOCATION:54th Cambridge HQ / Green End Road Scouts Centre\, 149 Green End Rd\, Cambridge\, Cambridgeshire\, CB4 1RW\, United Kingdom
CATEGORIES:Beaver Scouts,Cambridge District,Cub Scouts,CUSAGC,Explorer Scouts,Network Scouts,Scouts
ATTACH;FMTTYPE=image/png:https://www.cambridgescouts.org.uk/wp-content/uploads/2021/03/cambridge-logo-245.png
END:VEVENT
BEGIN:VEVENT
DTSTART;TZID=Europe/London:20230930T090000
DTEND;TZID=Europe/London:20231001T163000
DTSTAMP:20260421T214723
CREATED:20230909T181347Z
LAST-MODIFIED:20230909T181347Z
UID:1345-1696064400-1696177800@www.cambridgescouts.org.uk
SUMMARY:[Cubs] Challenge Days
DESCRIPTION:Cubs attend either Saturday OR Sunday. \nThis event is only open to Cubs aged 9 and above (at the time of event).
URL:https://www.cambridgescouts.org.uk/event/cubs-challenge-days/
LOCATION:Copley Centre\, Copley Scouting Centre\, Thicket Path\, Westwood Road\,\, St. Ives\, Cambridgeshire\, PE27 6DT\, United Kingdom
CATEGORIES:Cub Scouts
ATTACH;FMTTYPE=image/png:https://www.cambridgescouts.org.uk/wp-content/uploads/2022/11/cubs-logo-green-png-300.png
END:VEVENT
END:VCALENDAR