BEGIN:VCALENDAR
VERSION:2.0
PRODID:-//Cambridge Scouts - ECPv6.15.20//NONSGML v1.0//EN
CALSCALE:GREGORIAN
METHOD:PUBLISH
X-ORIGINAL-URL:https://www.cambridgescouts.org.uk
X-WR-CALDESC:Events for Cambridge Scouts
REFRESH-INTERVAL;VALUE=DURATION:PT1H
X-Robots-Tag:noindex
X-PUBLISHED-TTL:PT1H
BEGIN:VTIMEZONE
TZID:UTC
BEGIN:STANDARD
TZOFFSETFROM:+0000
TZOFFSETTO:+0000
TZNAME:UTC
DTSTART:20170101T000000
END:STANDARD
END:VTIMEZONE
BEGIN:VEVENT
DTSTART;TZID=UTC:20180421T140000
DTEND;TZID=UTC:20180421T180000
DTSTAMP:20260421T143940
CREATED:20180109T023142Z
LAST-MODIFIED:20180109T031553Z
UID:686-1524319200-1524333600@www.cambridgescouts.org.uk
SUMMARY:St George's Day - Activities Day 2018
DESCRIPTION:Following last year’s amazing success for St George’s Day\, District is running another Activity Day at Abington Woods Campsite. \nEach section will participate in three activities. All sections will then come together for a traditional campfire sing-song. Followed by a parade to mark our respect for St George\, back to the Great Abington Village Ground. \nThe cost for the afternoon is 1 x £2 coin per person. \nLEADERS:\nCan you please confirm numbers to Debbie by 1st April 2018. \nIMPORTANT NOTE FOR PARENTS:\nPlease drop off and pick up your young people at:\nGreat Abington Village Ground\,\n67 High St\, Great Abington\,\nCambridge CB21 6AB. \nThere is a footpath to access the grounds between the Cricket Pavilion and Abington School\, opposite The Three Tuns public house.
URL:https://www.cambridgescouts.org.uk/event/st-georges-day-activities-day/
LOCATION:Abington Woods Campsite\, Church Ln\, Little Abington\,\, Cambridge\, CB21 6BQ\, United Kingdom
CATEGORIES:Beaver Scouts,Cambridge District,Cub Scouts,CUSAGC,Explorer Scouts,Network Scouts,Scouts
ATTACH;FMTTYPE=image/png:https://www.cambridgescouts.org.uk/wp-content/uploads/2018/01/event-st-george-day.png
ORGANIZER;CN="Debbie Mullinger":MAILTO:debbie_mullinger01@hotmail.com
END:VEVENT
BEGIN:VEVENT
DTSTART;TZID=UTC:20180428T080000
DTEND;TZID=UTC:20180428T180000
DTSTAMP:20260421T143940
CREATED:20180108T151136Z
LAST-MODIFIED:20180108T151416Z
UID:570-1524902400-1524938400@www.cambridgescouts.org.uk
SUMMARY:Fight the Dragon at LEGOLAND! (County Event)
DESCRIPTION:Come and join your friends to fight Georges dragon at Legoland!!! \nAfter a great visit to Twin Lakes in Melton Mowbray in 2016\, Cambridgeshire County Beavers would like to invite you to a fun filled day at Legoland Windsor on April 28th 2018. \nLEADERS PACK CAN BE DOWNLOADED FROM HERE (1.08 MB) \nLeaders can find us at: https://www.facebook.com/groups/234585506879401/\n(LEADERS ONLY PAGE\, if you’re not a member please message me using the e-mail link below with your membership number\, group and roll to be added) \nIf you have any ideas for other County events\, drop us an e-mail HERE
URL:https://www.cambridgescouts.org.uk/event/fight-the-dragon-at-legoland/
LOCATION:Legoland\, Winkfield Rd\,\, Windsor\, SL4 4AY\, United Kingdom
CATEGORIES:Beaver Scouts
ATTACH;FMTTYPE=image/png:https://www.cambridgescouts.org.uk/wp-content/uploads/2017/08/event-scouts-beavers.png
ORGANIZER;CN="Tori Smith (ACC Beavers)":MAILTO:tori.smith@cambridgeshirescouts.org.uk
END:VEVENT
END:VCALENDAR