BEGIN:VCALENDAR
VERSION:2.0
PRODID:-//Cambridge Scouts - ECPv6.15.20//NONSGML v1.0//EN
CALSCALE:GREGORIAN
METHOD:PUBLISH
X-ORIGINAL-URL:https://www.cambridgescouts.org.uk
X-WR-CALDESC:Events for Cambridge Scouts
REFRESH-INTERVAL;VALUE=DURATION:PT1H
X-Robots-Tag:noindex
X-PUBLISHED-TTL:PT1H
BEGIN:VTIMEZONE
TZID:UTC
BEGIN:STANDARD
TZOFFSETFROM:+0000
TZOFFSETTO:+0000
TZNAME:UTC
DTSTART:20170101T000000
END:STANDARD
END:VTIMEZONE
BEGIN:VEVENT
DTSTART;TZID=UTC:20180318T140000
DTEND;TZID=UTC:20180318T170000
DTSTAMP:20260421T130250
CREATED:20180109T020858Z
LAST-MODIFIED:20180109T020858Z
UID:679-1521381600-1521392400@www.cambridgescouts.org.uk
SUMMARY:Cub District Quiz Finals 2018
DESCRIPTION:After completing round one of this year’s quiz within a Pack night\, the finalists come together for the final show down before crowning the supreme Quiz winners 2018. \nLeaders: Please confirm numbers / attendance with Jeremy asap.
URL:https://www.cambridgescouts.org.uk/event/cub-district-quiz-finals-2018/
LOCATION:11th/9th Cambridge HQ\, Newnham Scout and Guide Centre\,\, Chedworth St\,\, Cambridge\, CB3 9JF\, United Kingdom
CATEGORIES:Cub Scouts
ATTACH;FMTTYPE=image/png:https://www.cambridgescouts.org.uk/wp-content/uploads/2018/01/event-scouts-cubs.png
ORGANIZER;CN="Jeremy Racher (ADC Cubs)":MAILTO:adc.cubs@cambridgescouts.org.uk
END:VEVENT
END:VCALENDAR